BEGIN:VCALENDAR
VERSION:2.0
PRODID:-//pretix//pretix.eu//
BEGIN:VTIMEZONE
TZID:Europe/Berlin
BEGIN:STANDARD
DTSTART:20001029T040000
RRULE:FREQ=YEARLY;BYDAY=-1SU;BYMONTH=10
TZNAME:CET
TZOFFSETFROM:+0200
TZOFFSETTO:+0100
END:STANDARD
BEGIN:DAYLIGHT
DTSTART:20000326T030000
RRULE:FREQ=YEARLY;BYDAY=-1SU;BYMONTH=3
TZNAME:CEST
TZOFFSETFROM:+0100
TZOFFSETTO:+0200
END:DAYLIGHT
END:VTIMEZONE
BEGIN:VEVENT
UID:pretix-melodrom-projectchix0424-0@ticket.melodrom.de
DTSTART;TZID=Europe/Berlin:20240503T223000
DTEND;TZID=Europe/Berlin:20240504T040000
DESCRIPTION:Tickets: https://ticket.melodrom.de/projectchix0424/\nVeranstal
 ter: Melodrom GmbH
DTSTAMP:20260419T125023Z
LOCATION:Melodrom\, Sudentenstr. 12a\, 87600 Kaufbeuren
SUMMARY:Project ChiX - Ladies Night @Melodrom
END:VEVENT
END:VCALENDAR
